BEGIN:VCALENDAR
VERSION:2.0
PRODID:-//PUMP - ECPv6.0.0//NONSGML v1.0//EN
CALSCALE:GREGORIAN
METHOD:PUBLISH
X-WR-CALNAME:PUMP
X-ORIGINAL-URL:https://www.pump.org
X-WR-CALDESC:Events for PUMP
REFRESH-INTERVAL;VALUE=DURATION:PT1H
X-Robots-Tag:noindex
X-PUBLISHED-TTL:PT1H
BEGIN:VTIMEZONE
TZID:America/New_York
BEGIN:DAYLIGHT
TZOFFSETFROM:-0500
TZOFFSETTO:-0400
TZNAME:EDT
DTSTART:20160313T070000
END:DAYLIGHT
BEGIN:STANDARD
TZOFFSETFROM:-0400
TZOFFSETTO:-0500
TZNAME:EST
DTSTART:20161106T060000
END:STANDARD
BEGIN:DAYLIGHT
TZOFFSETFROM:-0500
TZOFFSETTO:-0400
TZNAME:EDT
DTSTART:20170312T070000
END:DAYLIGHT
BEGIN:STANDARD
TZOFFSETFROM:-0400
TZOFFSETTO:-0500
TZNAME:EST
DTSTART:20171105T060000
END:STANDARD
BEGIN:DAYLIGHT
TZOFFSETFROM:-0500
TZOFFSETTO:-0400
TZNAME:EDT
DTSTART:20180311T070000
END:DAYLIGHT
BEGIN:STANDARD
TZOFFSETFROM:-0400
TZOFFSETTO:-0500
TZNAME:EST
DTSTART:20181104T060000
END:STANDARD
BEGIN:DAYLIGHT
TZOFFSETFROM:-0500
TZOFFSETTO:-0400
TZNAME:EDT
DTSTART:20190310T070000
END:DAYLIGHT
BEGIN:STANDARD
TZOFFSETFROM:-0400
TZOFFSETTO:-0500
TZNAME:EST
DTSTART:20191103T060000
END:STANDARD
BEGIN:DAYLIGHT
TZOFFSETFROM:-0500
TZOFFSETTO:-0400
TZNAME:EDT
DTSTART:20200308T070000
END:DAYLIGHT
BEGIN:STANDARD
TZOFFSETFROM:-0400
TZOFFSETTO:-0500
TZNAME:EST
DTSTART:20201101T060000
END:STANDARD
BEGIN:DAYLIGHT
TZOFFSETFROM:-0500
TZOFFSETTO:-0400
TZNAME:EDT
DTSTART:20210314T070000
END:DAYLIGHT
BEGIN:STANDARD
TZOFFSETFROM:-0400
TZOFFSETTO:-0500
TZNAME:EST
DTSTART:20211107T060000
END:STANDARD
BEGIN:DAYLIGHT
TZOFFSETFROM:-0500
TZOFFSETTO:-0400
TZNAME:EDT
DTSTART:20220313T070000
END:DAYLIGHT
BEGIN:STANDARD
TZOFFSETFROM:-0400
TZOFFSETTO:-0500
TZNAME:EST
DTSTART:20221106T060000
END:STANDARD
END:VTIMEZONE
BEGIN:VEVENT
DTSTART;TZID=America/New_York:20220924T180000
DTEND;TZID=America/New_York:20220924T220000
DTSTAMP:20260421T050251
CREATED:20220913T175139Z
LAST-MODIFIED:20220913T175139Z
UID:10018162-1664042400-1664056800@www.pump.org
SUMMARY:BikePGH 20th Anniversary Party
DESCRIPTION:Help us say Cheers to 20 Years! \nIt’s time to celebrate 20 years of BikePGH as we toast our accomplishments and our incredible community of supporters! Join us as we return to our BIKEFEST roots by throwing a rocking party… everyone’s invited! Tickets are on sale now for BikePGH’s 20th Anniversary Party at the Bitz Opera House (formerly the Pittsburgh Opera) in the Strip District on Saturday September 24 from 6pm – 10pm. \nThe evening will feature plenty of beer (including a special collaboration by East End Brewing\, Trace Brewing\, Allegheny City Brewing\, and Two Frays)\, cocktails from Goodlander\, locally made snacks\, music\, dancing\, bike-powered carnival games\, a raffle with prizes valued at over $6000\, and more! \nVIP tickets get you in an hour early to enjoy curated appetizers from Con Alma & Chef Josh Ross plus a live performance by Hugo Cruz and Caminos. \nLET’S PARTY ON! 🎉 *AIRHORN NOISE* 🎉
URL:https://www.pump.org/event/bikepgh-20th-anniversary-party/
CATEGORIES:Advocacy,Social
ATTACH;FMTTYPE=image/png:https://www.pump.org/wp-content/uploads/2022/09/FB-BANNER.png.20thanniversary-800x412-1.png
END:VEVENT
BEGIN:VEVENT
DTSTART;TZID=America/New_York:20220828T070000
DTEND;TZID=America/New_York:20220828T150000
DTSTAMP:20260421T050251
CREATED:20220802T183343Z
LAST-MODIFIED:20220802T183343Z
UID:10018136-1661670000-1661698800@www.pump.org
SUMMARY:PedalPGH
DESCRIPTION:PedalPGH is an annual charity ride for BikePGH \nSince 1994\, PedalPGH has been Pennsylvania’s biggest celebration of bicycling. Join in the most fun you can have on two wheels while touring the city’s sights. It’s a casual\, fun ride that exposes people of all ages and fitness levels to the neighborhoods\, parks\, bridges\, and geography that make Pittsburgh so unique. Proceeds fund BikePGH\, a registered 501(c)(3) charitable non-profit\, who works on behalf of the Pittsburgh community to make the city safe and accessible for everyone to bike and walk. \nREGISTER
URL:https://www.pump.org/event/pedalpgh/
LOCATION:Southside Riverfront Park
CATEGORIES:Advocacy,Recreation,Social
ATTACH;FMTTYPE=image/jpeg:https://www.pump.org/wp-content/uploads/2022/08/PedalPGH-2020-Basic3.jpg
GEO:40.4265019;-79.9807873
END:VEVENT
BEGIN:VEVENT
DTSTART;TZID=America/New_York:20220730T100000
DTEND;TZID=America/New_York:20220730T140000
DTSTAMP:20260421T050251
CREATED:20220504T203227Z
LAST-MODIFIED:20221030T181339Z
UID:10018282-1659175200-1659189600@www.pump.org
SUMMARY:OpenStreetsPGH
DESCRIPTION:OpenStreetsPGH is back in 2022 with a full event season! \nOpenStreetsPGH 2022 is set to take over city streets on May 29\, June 26\, and July 30. \nWalk\, run\, bike\, skate\, roll\, dance\, and enjoy the road at your own pace. Jump into a free fitness class at our wellness hub\, learn how to bike at our kid’s hub\, grab food from local vendors\, and enjoy a variety of fun activities hosted by local organizations. \nThis event series is organized by Bike Pittsburgh\, a non-profit organization that works on behalf of the Pittsburgh community to transform our streets and communities into vibrant\, healthy places by making them safe and accessible for everyone to bike and walk. \nEvent Hours: 10 AM – 2 PM \n\nSunday May 29: Downtown to South Side\nSunday June 26: Downtown\, Strip District\, Lawrenceville\nSaturday July 30: East End Loop\n\nLearn more about Healthy Start Pittsburgh at: https://healthystartpittsburgh.org
URL:https://www.pump.org/event/openstreetspgh/2022-07-30/
CATEGORIES:Recreation,Social
ATTACH;FMTTYPE=image/png:https://www.pump.org/wp-content/uploads/2019/06/open-streets-logo.png
END:VEVENT
BEGIN:VEVENT
DTSTART;TZID=America/New_York:20220626T100000
DTEND;TZID=America/New_York:20220626T140000
DTSTAMP:20260421T050251
CREATED:20220504T203227Z
LAST-MODIFIED:20221030T181339Z
UID:10018281-1656237600-1656252000@www.pump.org
SUMMARY:OpenStreetsPGH
DESCRIPTION:OpenStreetsPGH is back in 2022 with a full event season! \nOpenStreetsPGH 2022 is set to take over city streets on May 29\, June 26\, and July 30. \nWalk\, run\, bike\, skate\, roll\, dance\, and enjoy the road at your own pace. Jump into a free fitness class at our wellness hub\, learn how to bike at our kid’s hub\, grab food from local vendors\, and enjoy a variety of fun activities hosted by local organizations. \nThis event series is organized by Bike Pittsburgh\, a non-profit organization that works on behalf of the Pittsburgh community to transform our streets and communities into vibrant\, healthy places by making them safe and accessible for everyone to bike and walk. \nEvent Hours: 10 AM – 2 PM \n\nSunday May 29: Downtown to South Side\nSunday June 26: Downtown\, Strip District\, Lawrenceville\nSaturday July 30: East End Loop\n\nLearn more about Healthy Start Pittsburgh at: https://healthystartpittsburgh.org
URL:https://www.pump.org/event/openstreetspgh/2022-06-26/
CATEGORIES:Recreation,Social
ATTACH;FMTTYPE=image/png:https://www.pump.org/wp-content/uploads/2019/06/open-streets-logo.png
END:VEVENT
BEGIN:VEVENT
DTSTART;TZID=America/New_York:20220529T100000
DTEND;TZID=America/New_York:20220529T140000
DTSTAMP:20260421T050251
CREATED:20220504T203227Z
LAST-MODIFIED:20221030T181339Z
UID:10018103-1653818400-1653832800@www.pump.org
SUMMARY:OpenStreetsPGH
DESCRIPTION:OpenStreetsPGH is back in 2022 with a full event season! \nOpenStreetsPGH 2022 is set to take over city streets on May 29\, June 26\, and July 30. \nWalk\, run\, bike\, skate\, roll\, dance\, and enjoy the road at your own pace. Jump into a free fitness class at our wellness hub\, learn how to bike at our kid’s hub\, grab food from local vendors\, and enjoy a variety of fun activities hosted by local organizations. \nThis event series is organized by Bike Pittsburgh\, a non-profit organization that works on behalf of the Pittsburgh community to transform our streets and communities into vibrant\, healthy places by making them safe and accessible for everyone to bike and walk. \nEvent Hours: 10 AM – 2 PM \n\nSunday May 29: Downtown to South Side\nSunday June 26: Downtown\, Strip District\, Lawrenceville\nSaturday July 30: East End Loop\n\nLearn more about Healthy Start Pittsburgh at: https://healthystartpittsburgh.org
URL:https://www.pump.org/event/openstreetspgh/2022-05-29/
CATEGORIES:Recreation,Social
ATTACH;FMTTYPE=image/png:https://www.pump.org/wp-content/uploads/2019/06/open-streets-logo.png
END:VEVENT
BEGIN:VEVENT
DTSTART;TZID=America/New_York:20211214T173000
DTEND;TZID=America/New_York:20211214T190000
DTSTAMP:20260421T050251
CREATED:20211117T225639Z
LAST-MODIFIED:20211117T225639Z
UID:10018009-1639503000-1639508400@www.pump.org
SUMMARY:2021 BikePGH Annual Members Meeting
DESCRIPTION:Join BikePGH for the 2021 Annual Members Meeting! Get up-to-date\, celebrate\, and meet the staff\, board\, and other members of the BikePGH community. \nThis event is for Bike Pittsburgh members only. Learn more about the event here.
URL:https://www.pump.org/event/2021-bikepgh-annual-members-meeting/
LOCATION:East End Cooperative Ministry\, 6140 Station St\, Pittsburgh\, PA\, 15206
CATEGORIES:Advocacy
ATTACH;FMTTYPE=image/jpeg:https://www.pump.org/wp-content/uploads/2021/11/https___cdn.evbuc_.com_images_183061509_74397410743_1_original.jpg
GEO:40.462826;-79.9219374
X-APPLE-STRUCTURED-LOCATION;VALUE=URI;X-ADDRESS=East End Cooperative Ministry 6140 Station St Pittsburgh PA 15206;X-APPLE-RADIUS=500;X-TITLE=6140 Station St:geo:-79.9219374,40.462826
END:VEVENT
BEGIN:VEVENT
DTSTART;TZID=America/New_York:20210826T080000
DTEND;TZID=America/New_York:20210829T160000
DTSTAMP:20260421T050251
CREATED:20210528T150205Z
LAST-MODIFIED:20210528T160721Z
UID:10017916-1629964800-1630252800@www.pump.org
SUMMARY:Pedal PGH
DESCRIPTION:PedalPGH is Pittsburgh’s biggest celebration of bicycling. Join in the most fun you can have on two wheels while touring the city’s sights.\nWith health and safety front of mind\, BikePGH will host PedalPGH in 2021 as a hybrid event: \n\nChoose to participate in-person on Sunday\, August 29\, 2021\, for a more supported event experience with access to rest stops and roaming SAG vehicles.\nOr ride “virtually” anytime you want during event weekend from Thursday\, August 26th through Sunday\, August 29th.\n\nNo matter which experience you choose\, you will be able to safely experience our beautiful city\, even as social distancing keeps us apart. \nWhat can you expect in 2021?\nChoose from one of our four marked routes around the Steel City ranging from 10 to 62 miles\, and pick up your packet in advance to receive amazing PedalPGH gear\, and a digital ride guide with maps\, tips\, and more from our sponsors! Then\, ride solo or with a small group throughout the PedalPGH celebration weekend from August 26th to 29th\, 2021. \nPedalPGH is an annual charity ride for BikePGH\nPedalPGH is a casual\, fun ride that exposes people of all ages and fitness levels to the neighborhoods\, parks\, bridges\, and geography that make Pittsburgh so unique. \nAll registration proceeds will benefit BikePGH\, a registered 501(c)(3) charitable non-profit\, who works on behalf of the Pittsburgh community to make the city safe and accessible for everyone to bike and walk.
URL:https://www.pump.org/event/pedal-pgh/
CATEGORIES:Advocacy,Recreation,Social
ATTACH;FMTTYPE=image/jpeg:https://www.pump.org/wp-content/uploads/2021/05/pedal-pgh.jpg
END:VEVENT
BEGIN:VEVENT
DTSTART;TZID=America/New_York:20200425T080000
DTEND;TZID=America/New_York:20200425T160000
DTSTAMP:20260421T050251
CREATED:20200131T211036Z
LAST-MODIFIED:20200403T163548Z
UID:10017769-1587801600-1587830400@www.pump.org
SUMMARY:Women & Non-Binary Bike Summit
DESCRIPTION:NOTE: Due to the COVID-19 outbreak\, many events on our community calendar have been canceled\, postponed\, or shifted to virtual platforms. Please check with the event organizer for the most up-to-date information. For resources on COVID-19\, visit our blog. Thank you! \nThe Women & Non-Binary Bike Summit has been postponed to fall 2020. \nWomen & Non-Binary Bike Summit with WMNBikePGH\, Presented by Dollar Bank\nWhether you are interested in learning more about bike fit\, bike gear\, or becoming a stronger advocate for safe cycling\, there will be a workshop for you! \nIn its seventh year\, the day will begin and end with optional physical activities – first with yoga and culminating with a celebratory bike ride. \nLearn more about the event and WMNBikePGH here.
URL:https://www.pump.org/event/women-non-binary-bike-summit/
LOCATION:The Shop – Homewood\, 621 North Dallas Ave\, Pittsburgh\, PA\, 15208\, United States
CATEGORIES:Advocacy,Recreation,Social
ATTACH;FMTTYPE=image/jpeg:https://www.pump.org/wp-content/uploads/2020/01/wmnbike-summit.jpg
GEO:40.4568935;-79.9048123
X-APPLE-STRUCTURED-LOCATION;VALUE=URI;X-ADDRESS=The Shop – Homewood 621 North Dallas Ave Pittsburgh PA 15208 United States;X-APPLE-RADIUS=500;X-TITLE=621 North Dallas Ave:geo:-79.9048123,40.4568935
END:VEVENT
BEGIN:VEVENT
DTSTART;TZID=America/New_York:20200422T083000
DTEND;TZID=America/New_York:20200422T100000
DTSTAMP:20260421T050251
CREATED:20200417T134523Z
LAST-MODIFIED:20200417T134523Z
UID:10017802-1587544200-1587549600@www.pump.org
SUMMARY:WMNBikePGH Virtual Coffee Meetup
DESCRIPTION:Join WMNBikePGH for their virtual coffee meetup on April 22 at 8:30 AM via Zoom. Learn more here.
URL:https://www.pump.org/event/wmnbikepgh-virtual-coffee-meetup-2/
CATEGORIES:Social
ATTACH;FMTTYPE=image/png:https://www.pump.org/wp-content/uploads/2020/04/wmnbikepgh-virtual.png
END:VEVENT
BEGIN:VEVENT
DTSTART;TZID=America/New_York:20200408T083000
DTEND;TZID=America/New_York:20200408T100000
DTSTAMP:20260421T050251
CREATED:20200406T135516Z
LAST-MODIFIED:20200406T135516Z
UID:10017796-1586334600-1586340000@www.pump.org
SUMMARY:WMNBikePGH Virtual Coffee Meetup
DESCRIPTION:Join WMNBikePGH for their first virtual coffee meetup. Learn more about how to join here.
URL:https://www.pump.org/event/wmnbikepgh-virtual-coffee-meetup/
CATEGORIES:Social
ATTACH;FMTTYPE=image/png:https://www.pump.org/wp-content/uploads/2020/04/wmnbikepgh-virtual.png
END:VEVENT
BEGIN:VEVENT
DTSTART;TZID=America/New_York:20190630T090000
DTEND;TZID=America/New_York:20190630T130000
DTSTAMP:20260421T050251
CREATED:20190624T203518Z
LAST-MODIFIED:20190624T203518Z
UID:10017646-1561885200-1561899600@www.pump.org
SUMMARY:OpenStreetsPGH - Downtown\, Strip District\, & Lawrenceville Route
DESCRIPTION:The second OpenStreetsPGH of 2019 is happening on June 30 from 9 AM-1 PM! Explore the car-free streets of Downtown\, the Strip District\, and Lawrenceville. \nOpenStreetPGH temporarily closes streets to car traffic and invites Pittsburghers to reimagine their streets as places for people. This free event series offers something for everyone\, from fitness workshops\, to kids activities\, shopping\, brunch\, community arts\, and special promotions presented by over 100 local businesses and organizations. \nOpenStreetsPGH is inspired by the open streets movement – a global phenomenon promoting healthy outdoor activity and community engagement using city streets. \nThis event series is organized by BikePGH\, a nonprofit which works on behalf of the Pittsburgh community to make the city safe and accessible for everyone to bike and walk. \nLearn more about OpenStreetsPGH.  \nWant to volunteer? Sign up to help PUMP host an intersection to ensure a safe and fun experience for all participants. \n 
URL:https://www.pump.org/event/openstreetspgh-downtown-strip-district-lawrenceville-route/
LOCATION:Downtown\, Strip District\, Lawrenceville
CATEGORIES:Advocacy,Recreation,Social
ATTACH;FMTTYPE=image/png:https://www.pump.org/wp-content/uploads/2019/06/open-streets-logo.png
END:VEVENT
BEGIN:VEVENT
DTSTART;VALUE=DATE:20190517
DTEND;VALUE=DATE:20190518
DTSTAMP:20260421T050251
CREATED:20190409T180625Z
LAST-MODIFIED:20190409T180625Z
UID:10017597-1558051200-1558137599@www.pump.org
SUMMARY:Bike to Work Day 2019
DESCRIPTION:Join BikePGH for Bike to Work Day – Friday\, May 17th\nBike to Work Day is a day to celebrate being one of thousands of people in Pittsburgh who rides to work. It’s also a day to give bicycle commuting a try\, so join in the fun and bike to work on Friday\, May 17th! \nBikePGH is partnering with Healthy Ride\, The University of Pittsburgh\, and other community partners to host two Commuter Cafes. They will have breakfast snacks\, coffee\, and friendly faces to get the day started. \nLocations: \n\nMarket Square\, Downtown – 7 AM-10 AM\nSchenley Plaza\, Oakland – 7 AM-10 AM\n\nLearn more about Bike to Work Day and get tips on how to prepare for your commute here.
URL:https://www.pump.org/event/bike-to-work-day-2019/
LOCATION:Pittsburgh
CATEGORIES:Advocacy,Recreation
ATTACH;FMTTYPE=image/jpeg:https://www.pump.org/wp-content/uploads/2019/04/bike-to-work-day-2019.jpg
END:VEVENT
BEGIN:VEVENT
DTSTART;TZID=America/New_York:20190406T080000
DTEND;TZID=America/New_York:20190406T160000
DTSTAMP:20260421T050251
CREATED:20190125T171339Z
LAST-MODIFIED:20190125T171339Z
UID:10017529-1554537600-1554566400@www.pump.org
SUMMARY:BikePGH's 6th Annual Women & Non-Binary Forum
DESCRIPTION:BikePGH’s Women & Non-Binary Forum\nJoin BikePGH at the 6th Annual Women & Non-Binary Forum presented by Dollar Bank. The annual forum brings together women and non-binary people from across the region to talk about shared experiences\, challenges\, and tools to address mobility\, biking\, advocacy and more. This day of camaraderie includes learning\, networking\, skill-sharing\, expert information\, and a chance to ride your bike! \nScholarships and discount codes are available if the cost is prohibitive to you or if you are advertising to your group or club! \nLearn more about the event and purchase tickets here. \nBikePGH’s Women and Non-Binary Program is inclusive of trans and cis women\, intersex people\, non-binary\, genderqueer\, agender\, and gender variant folks\, as well as those whose gender identity falls outside of the dominant conceptions of gender. The program encourages conversation and provides spaces to come together over biking\, advocacy\, and related topics while increasing representation of people who have historically marginalized identities.
URL:https://www.pump.org/event/bikepghs-6th-annual-women-non-binary-forum/
LOCATION:Ace Hotel Pittsburgh\, 120 S. Whitfield St.\, Pittsburgh\, Pennsylvania\, 15206\, United States
CATEGORIES:Advocacy,Recreation,Social
ATTACH;FMTTYPE=image/jpeg:https://www.pump.org/wp-content/uploads/2019/01/bike-pgh-women-nonbinary-forum.jpg
GEO:40.4612819;-79.9264254
X-APPLE-STRUCTURED-LOCATION;VALUE=URI;X-ADDRESS=Ace Hotel Pittsburgh 120 S. Whitfield St. Pittsburgh Pennsylvania 15206 United States;X-APPLE-RADIUS=500;X-TITLE=120 S. Whitfield St.:geo:-79.9264254,40.4612819
END:VEVENT
BEGIN:VEVENT
DTSTART;TZID=America/New_York:20190223T090000
DTEND;TZID=America/New_York:20190223T160000
DTSTAMP:20260421T050251
CREATED:20190208T164729Z
LAST-MODIFIED:20190208T164729Z
UID:10017547-1550912400-1550937600@www.pump.org
SUMMARY:Advocacy 101 Training with Bike Pittsburgh
DESCRIPTION:Advocacy 101 Training for Bike/Pedestrian Advocates on Feb. 23 – Submit Application by 2/15/19\nBike Pittsburgh is hosting their first-ever training for bike/pedestrian advocates in the neighborhoods of Pittsburgh. This training is open to everyone\, whether you are just joining the bike/ped advocate scene or are a well established advocate. No previous advocacy experience necessary. \nThe training will walk through the advocacy tools that Bike Pittsburgh has been using to help participants create and run a winning campaign in your neighborhood. The training is a full day event and the topics will build off of each other\, so it’s important to stay for the entire day. \nThe goal of the training is for participants to leave with a campaign that they can push for in their neighborhoods and a greater sense of camaraderie with fellow advocates. \nLight breakfast and lunch will be provided. The training is free\, but class size is limited. \nSubmit your application here by February 15.
URL:https://www.pump.org/event/advocacy-101-training-with-bike-pittsburgh/
LOCATION:Frick Environmental Center\, 2005 Beechwood Blvd\, Pittsburgh\, PA\, 15217\, United States
CATEGORIES:Advocacy
ATTACH;FMTTYPE=image/jpeg:https://www.pump.org/wp-content/uploads/2019/02/bike-pgh.jpg
GEO:40.4361599;-79.9088015
X-APPLE-STRUCTURED-LOCATION;VALUE=URI;X-ADDRESS=Frick Environmental Center 2005 Beechwood Blvd Pittsburgh PA 15217 United States;X-APPLE-RADIUS=500;X-TITLE=2005 Beechwood Blvd:geo:-79.9088015,40.4361599
END:VEVENT
BEGIN:VEVENT
DTSTART;VALUE=DATE:20180518
DTEND;VALUE=DATE:20180519
DTSTAMP:20260421T050251
CREATED:20180507T161434Z
LAST-MODIFIED:20180507T161434Z
UID:10017310-1526601600-1526687999@www.pump.org
SUMMARY:Bike to Work Day - May 18\, 2018
DESCRIPTION:Bike to Work Day is a day to celebrate being one of thousands of people in Pittsburgh who rides to work! It’s also a day to give bicycle commuting a try\, so join in the fun and bike to work on Friday\, May 18\, 2018. \nVisit a BikePGH Commuter Cafe: BikePGH will be providing breakfast snacks\, coffee\, and friendly faces to get your day moving. Join BikePGH\, Healthy Ride PGH\, and other community partners. \nWhere: Market Square\, Downtown \nWhen: 7:30 AM – 10 AM \nBikePGH members will receive a special gift when they show up at a Commuter Cafe on Bike to Work Day. \nSee the Facebook event for more details.
URL:https://www.pump.org/event/bike-to-work-day-may-18-2018/
LOCATION:Market Square\, Downtown\, Pittsburgh\, Pennsylvania\, United States
CATEGORIES:Advocacy,Recreation
ATTACH;FMTTYPE=image/jpeg:https://www.pump.org/wp-content/uploads/2018/05/bike-to-work-day-e1525709602475.jpg
END:VEVENT
BEGIN:VEVENT
DTSTART;TZID=America/New_York:20180407T080000
DTEND;TZID=America/New_York:20180407T160000
DTSTAMP:20260421T050251
CREATED:20180313T150211Z
LAST-MODIFIED:20180313T150211Z
UID:10017248-1523088000-1523116800@www.pump.org
SUMMARY:2018 Pittsburgh Women & Biking Forum
DESCRIPTION:Join BikePGH and women from throughout the region at the 5th Annual Women & Biking Forum.\nWMNBikePGH is a program for womyn\, femmes\, non-binary\, and gender non-conforming people. Register for the forum to participate in a great day of meeting other women who bike (or are bike-curious). Whether you are interested in learning how to fix a flat\, camp by bike\, or become a stronger advocate for safe cycling\, there will be a workshop for you! \nIn its fifth year\, this forum will continue to inspire women on this transformative day. The day will begin and end with optional physical activities and feature keynote speaker Anna Schwinn. \nPlease note: Admission scholarships are available if the cost to attend is prohibitive. Please see the event page for full details about the event and schedule\, ticket costs\, and how to apply for an admission scholarship.
URL:https://www.pump.org/event/2018-pittsburgh-women-biking-forum/
LOCATION:Ace Hotel Pittsburgh\, 120 S. Whitfield St.\, Pittsburgh\, Pennsylvania\, 15206\, United States
CATEGORIES:Advocacy,Social
ATTACH;FMTTYPE=image/jpeg:https://www.pump.org/wp-content/uploads/2018/03/women-bike-forum-e1520953150149.jpg
GEO:40.4612819;-79.9264254
X-APPLE-STRUCTURED-LOCATION;VALUE=URI;X-ADDRESS=Ace Hotel Pittsburgh 120 S. Whitfield St. Pittsburgh Pennsylvania 15206 United States;X-APPLE-RADIUS=500;X-TITLE=120 S. Whitfield St.:geo:-79.9264254,40.4612819
END:VEVENT
BEGIN:VEVENT
DTSTART;TZID=America/New_York:20160623T180000
DTEND;TZID=America/New_York:20160623T193000
DTSTAMP:20260421T050251
CREATED:20171020T195054Z
LAST-MODIFIED:20221028T211246Z
UID:10017040-1466704800-1466710200@www.pump.org
SUMMARY:BikePGH Business Network Meetup: Transportation & Affordable Development
DESCRIPTION:We’re all in the business of building a better Pittsburgh so let’s get down to it: Affordable transportation and affordable development are cornerstones of an equitable city. These cornerstones are shaped by countless forces – legislation\, funding\, demand\, planning\, special initiatives\, the list goes on. Right now in Pittsburgh we’re seeing some exciting things happen on many of these fronts: the City is in the running for $50 million to implement smart transportation; Mayor Peduto’s Affordable Housing Task Force just issued a list of much-awaited recommendations; The Department of City Planning is putting the final touches on a Complete Streets Policy that will guide future development.\n\n\n\n\n\n\nPittsburgh is onto something big\, but how are these pieces working in concert to provide a foundation on which to build a better Pittsburgh? BikePGH is bringing together some of the people behind the initiatives to discuss their goals\, synergies and contribution to a more walkable\, bikeable\, affordable Pittsburgh.\n\n\n\n\n\n\nMatt Barron from the Heinz Endowments and Daniel Barrett from the Mayor’s Office will share about the Smart City Application and how it encourages Pittsburgh’s affordability for all. Linda Metropolis\, CEO of ActionHousing and member of the Affordable Housing Task Force\, will discuss how affordable housing is created and protected in walkable/bikeable communities. And Corey Layman from the Department of City Planning will present about how zoning regulations provide the necessary structure that ensures equitable neighborhoods and shapes complete streets.\n\n\n\n\n\n\nBikePGH invites you and your colleagues to join us for their presentations at DeepLocal’s Strip District office. Click here to register today! 
URL:https://www.pump.org/event/bikepgh-business-network-meetup-transportation-affordable-development/
LOCATION:DeepLocal\, 2124 Penn Ave\, Pittsburgh\, Pennsylvania\, 15222\, United States
GEO:40.4520298;-79.982287
X-APPLE-STRUCTURED-LOCATION;VALUE=URI;X-ADDRESS=DeepLocal 2124 Penn Ave Pittsburgh Pennsylvania 15222 United States;X-APPLE-RADIUS=500;X-TITLE=2124 Penn Ave:geo:-79.982287,40.4520298
END:VEVENT
BEGIN:VEVENT
DTSTART;TZID=America/New_York:20160617T120000
DTEND;TZID=America/New_York:20160617T130000
DTSTAMP:20260421T050251
CREATED:20171020T195054Z
LAST-MODIFIED:20221028T211355Z
UID:10017039-1466164800-1466168400@www.pump.org
SUMMARY:BikePGH's Lunch Loop
DESCRIPTION:Tired of sitting at your desk all day? Looking for something different to do during your lunch break? Want to incorporate some fitness into your work day? Well we’ve got the thing for you. Trade in your normal lunchtime routine and join BikePGH for the first #LunchLoop on Friday\, June 17th. Co-presented by BikePGH\, Riverlife and Healthy Ride! \nThe Lunch Loop will feature a 30-minute bike ride starting and ending in Market Square\, and traveling along Downtown’s beautiful bike lanes and riverfront trails. The philosophy of this event is no sweat\, no stress. The loop is something that both avid cyclists and first time riders can participate in without it being a serious workout.  \nNo bike? No problem! Healthy Ride bikes will be available to use for those that need one – and they’re cheap\, $2/half hour!  \nSo join us on your break to get outside\, eat some good food\, and have some fun! If you like it enough you can even incorporate the Lunch Loop into your daily routine! \nCan’t make it to the event in June? The Lunch Loop series events will also take place on July 14th and August 23rd\, so mark your calendars. Click here for more information and to reserve your spot for the June ride! 
URL:https://www.pump.org/event/bikepghs-lunch-loop/
LOCATION:Market Square\, 210 Forbes Ave\, Pittsurgh\, Pennsylvania\, 15222\, United States
GEO:40.4404111;-80.0019824
X-APPLE-STRUCTURED-LOCATION;VALUE=URI;X-ADDRESS=Market Square 210 Forbes Ave Pittsurgh Pennsylvania 15222 United States;X-APPLE-RADIUS=500;X-TITLE=210 Forbes Ave:geo:-80.0019824,40.4404111
END:VEVENT
END:VCALENDAR