BEGIN:VCALENDAR
VERSION:2.0
PRODID:-//PUMP - ECPv6.0.0//NONSGML v1.0//EN
CALSCALE:GREGORIAN
METHOD:PUBLISH
X-WR-CALNAME:PUMP
X-ORIGINAL-URL:https://www.pump.org
X-WR-CALDESC:Events for PUMP
REFRESH-INTERVAL;VALUE=DURATION:PT1H
X-Robots-Tag:noindex
X-PUBLISHED-TTL:PT1H
BEGIN:VTIMEZONE
TZID:America/New_York
BEGIN:DAYLIGHT
TZOFFSETFROM:-0500
TZOFFSETTO:-0400
TZNAME:EDT
DTSTART:20150308T070000
END:DAYLIGHT
BEGIN:STANDARD
TZOFFSETFROM:-0400
TZOFFSETTO:-0500
TZNAME:EST
DTSTART:20151101T060000
END:STANDARD
BEGIN:DAYLIGHT
TZOFFSETFROM:-0500
TZOFFSETTO:-0400
TZNAME:EDT
DTSTART:20160313T070000
END:DAYLIGHT
BEGIN:STANDARD
TZOFFSETFROM:-0400
TZOFFSETTO:-0500
TZNAME:EST
DTSTART:20161106T060000
END:STANDARD
BEGIN:DAYLIGHT
TZOFFSETFROM:-0500
TZOFFSETTO:-0400
TZNAME:EDT
DTSTART:20170312T070000
END:DAYLIGHT
BEGIN:STANDARD
TZOFFSETFROM:-0400
TZOFFSETTO:-0500
TZNAME:EST
DTSTART:20171105T060000
END:STANDARD
END:VTIMEZONE
BEGIN:VEVENT
DTSTART;TZID=America/New_York:20171103T190000
DTEND;TZID=America/New_York:20171103T230000
DTSTAMP:20260421T111402
CREATED:20171020T195040Z
LAST-MODIFIED:20221028T194412Z
UID:10016993-1509735600-1509750000@www.pump.org
SUMMARY:40 Under 40
DESCRIPTION:Mark your calendars for Friday\, November 3rd when we will honor and recognize the next class of 40 Under 40 Honorees.  The evening includes an awards presentation\, dinner\, drinks\, dancing and a silent auction to benefit PUMP.  Join us for an inspiring night in Pittsburgh. \nNow in its 19th year\, the 40 Under 40 program is a partnership between Pittsburgh Magazine and the Pittsburgh Urban Magnet Project (PUMP)\, honoring individuals under the age of 40 whose creativity\, vision and passion enrich the Pittsburgh region.  Since the program’s inception\, the 40 Under 40 program has recognized 760 talented young people in Pittsburgh including artists\, entrepreneurs\, doctors\, educators\, financial advisors\, social service providers\, and more.  All award winners are selected by a panel of judges and have a demonstrated record of outstanding professional achievement\, community impact\, and volunteer leadership.  This highly competitive program receives nearly 300 nominations each year. \nInterested in nominating someone?\nThe deadline for nominations is Wednesday\, May 31\, 2017 and can be done online HERE. \nCheck out the 2016 40 Under 40 award winners HERE.
URL:https://www.pump.org/event/40-under-40/
LOCATION:Rivers Casino\, 777 Casino Dr.\, Pittsburgh\, Pennsylvania\, 15212\, United States
ORGANIZER;CN="Brian%20Magee":MAILTO:brian@pump.org
GEO:40.4476994;-80.0225767
X-APPLE-STRUCTURED-LOCATION;VALUE=URI;X-ADDRESS=Rivers Casino 777 Casino Dr. Pittsburgh Pennsylvania 15212 United States;X-APPLE-RADIUS=500;X-TITLE=777 Casino Dr.:geo:-80.0225767,40.4476994
END:VEVENT
BEGIN:VEVENT
DTSTART;TZID=America/New_York:20171001T090000
DTEND;TZID=America/New_York:20171001T170000
DTSTAMP:20260421T111402
CREATED:20171020T195026Z
LAST-MODIFIED:20221028T195427Z
UID:10016948-1506848400-1506877200@www.pump.org
SUMMARY:Volunteers Needed: Steel City World Cup Finals and Global Festival
DESCRIPTION:Volunteers Needed!\n  \nWe’re excited for our second Steel City World Cup which culminates on October 1st with the Semi-Finals\, Finals\, and Global Festival!  The entire day will be a big celebration of soccer and Pittsburgh’s global community and we need lots of help.  There will be games\, food\, music\, and entertainment.  You can learn more about the event HERE. \n  \nTo ensure a great event\, we’re looking for volunteers to assist with all aspects of the day including field monitors\, activity support\, food and beverage support\, set-up and clean-up\, and more. Available time slots include morning\, afternoon\, or full day.  Flexibility is very helpful to us in our planning\, so if you are open to being assigned to wherever we need you or more than one time slot\, please indicate so during the registration process. \nOther Important Information\n\nAll activities take place outside rain or shine\nSome responsibilities require lifting and carrying 25 lbs
URL:https://www.pump.org/event/volunteers-needed-steel-city-world-cup-finals-and-global-festival/
LOCATION:Highmark Stadium\, 510 W. Station Square Drive\, Pittsburgh\, Pennsylvania\, 15219\, United States
ORGANIZER;CN="Brian%20Magee":MAILTO:brian@pump.org
GEO:40.4355418;-80.0086428
X-APPLE-STRUCTURED-LOCATION;VALUE=URI;X-ADDRESS=Highmark Stadium 510 W. Station Square Drive Pittsburgh Pennsylvania 15219 United States;X-APPLE-RADIUS=500;X-TITLE=510 W. Station Square Drive:geo:-80.0086428,40.4355418
END:VEVENT
BEGIN:VEVENT
DTSTART;TZID=America/New_York:20170924T090000
DTEND;TZID=America/New_York:20170924T200000
DTSTAMP:20260421T111402
CREATED:20171020T195032Z
LAST-MODIFIED:20221028T195537Z
UID:10016967-1506243600-1506283200@www.pump.org
SUMMARY:Steel City World Cup (Group Stage)
DESCRIPTION:Join us for the second Steel City World Cup and Global Festival presented by BNY Mellon and hosted by the Pittsburgh Urban Magnet Project (PUMP)\, Pittsburgh Soccer in the Community\, Pittsburgh Riverhounds and Highmark Stadium\, and Welcoming Pittsburgh! \n  \n \n  \n\n\n\n      \n     \n     \n \n\n\n\nTournament Details:\n\n32 teams from 32 countries\n7 vs. 7 (including goalie) on small fields.\n    \nGuaranteed 3 games in Group Stage on Sunday\, 9/24.  All teams will be assigned to a 4-team Group at the World Cup Draw Event on 9/13\nAll teams qualify for the Round of 16 & Quarterfinals on Saturday\, 9/30.  Semi-Finals\, Championship\, and Global Festival will be held on Sunday\, 10/1.\n    \nAll Group Stage games are 36 minutes.  Round of 16 & Quarterfinal games are 50 minutes. Semi-Finals and Championship games are 60 minutes.\n$125 team registration fee to reserve spot.\n\nTeam Requirements:\n\nTeams must have a minimum of 8 players and maximum of 12 players\nTeams must include at least 2 women (Note: 2 women must be on the field at all times)\nTeams must consist of at least 3 players whose country of origin is the same as the country represented in the tournament.  Country of origin is defined as having been born in the country or having at least one parent born in the country.\nFirst come first serve registration by country and continent.  Once a country has registered or a continent is full\, additional teams for either will be placed on a waitlist.*\nContinents and team allocations are Africa (7 teams)\, Asia (5 teams)\, Europe (10 teams)\, North and Central America and Caribbean (4 teams)\, Oceania (1 team)\, and South America – 5 teams\nCheck HERE to see if your country and continent are still available and open.\n    \n\nPlayer Requirements:\n\nPlayers must be residents (or students with temporary residence) of Western Pennsylvania. \nPlayers must be at least 18 years of age.\nPlayers must sign a waiver before play and wear shin guards at all times.\n    \nPlayers must exhibit good sportsmanship and fair play.\n\nTo register\, you will need the following:\n\nName\, email\, and phone number of the Team Captain\nName of country your team is representing\nName and gender of all team members (minimum of 8 players and maximum of 12)\nNames of at least 3 team members who meet the country of origin requirement\n\nTwo ways to register:\n\nClick the “register” button at the top of the page to register online including payment.\nPrint the registration form HERE\, complete\, and return by mail along with payment.\n\nQuestions? \nContact Brian Magee at brian@pump.org or 412-338-2133 x10 or visit official event website at www.steelcityworldcup.com! \n*Following the registration deadline\, the tournament host committee will fill any remaining open slots from wait-list teams with priority being given to country teams not represented.  All wait-list teams will be notified of their status no later than September 4th. \n\n\n\n\n            \n\n\n \n\n\n \n \n\n\n\n  \n 
URL:https://www.pump.org/event/steel-city-world-cup-group-stage/
LOCATION:West Field in Munhall\, 1900 West Street\, Munhall\, Pennsylvania\, 15120\, United States
ORGANIZER;CN="Brian%20Magee":MAILTO:brian@pump.org
GEO:40.3990402;-79.9046293
X-APPLE-STRUCTURED-LOCATION;VALUE=URI;X-ADDRESS=West Field in Munhall 1900 West Street Munhall Pennsylvania 15120 United States;X-APPLE-RADIUS=500;X-TITLE=1900 West Street:geo:-79.9046293,40.3990402
END:VEVENT
BEGIN:VEVENT
DTSTART;TZID=America/New_York:20170924T080000
DTEND;TZID=America/New_York:20170924T210000
DTSTAMP:20260421T111402
CREATED:20171020T195053Z
LAST-MODIFIED:20221028T195606Z
UID:10017037-1506240000-1506286800@www.pump.org
SUMMARY:Volunteers Needed: Steel City World Cup (Group Stage)
DESCRIPTION:Volunteers Needed!\n  \nWe’re excited for our second Steel City World Cup which kicks off with Group Stage games all day on September 24th!  We’ll have approximately 20 teams from around the world playing short field games from morning to night.  The entire day will be a big celebration of soccer and Pittsburgh’s global community and we need lots of help.  You can learn more about the event HERE. \n  \nTo ensure a great event\, we’re looking for volunteers to assist with all aspects of the Group Stage games including field monitors\, score runners\, water monitors and refreshers\, set-up and clean-up\, and more. Available time slots include morning\, afternoon\, early evening\, or any combination of the three.  Flexibility is very helpful to us in our planning\, so if you are open to being assigned to wherever we need you or more than one time slot\, please indicate so during the registration process. \nOther Important Information\n\nAll activities take place outside rain or shine\nSome responsibilities require lifting and carrying 25 lbs
URL:https://www.pump.org/event/volunteers-needed-steel-city-world-cup-group-stage/
LOCATION:West Field in Munhall\, 1900 West Street\, Munhall\, Pennsylvania\, 15120\, United States
ORGANIZER;CN="Brian%20Magee":MAILTO:brian@pump.org
GEO:40.3990402;-79.9046293
X-APPLE-STRUCTURED-LOCATION;VALUE=URI;X-ADDRESS=West Field in Munhall 1900 West Street Munhall Pennsylvania 15120 United States;X-APPLE-RADIUS=500;X-TITLE=1900 West Street:geo:-79.9046293,40.3990402
END:VEVENT
BEGIN:VEVENT
DTSTART;TZID=America/New_York:20170504T190000
DTEND;TZID=America/New_York:20170504T220000
DTSTAMP:20260421T111402
CREATED:20171020T195038Z
LAST-MODIFIED:20221028T203004Z
UID:10016986-1493924400-1493935200@www.pump.org
SUMMARY:Pittsburgh Mayoral Candidate Forum
DESCRIPTION:Event Details:\n  \nPUMP\, Urban League Young Professionals\, University of Pittsburgh Graduate School for Public and International Affairs\, WESA/WYEP Generation Listen\, and the Pittsburgh Spot are hosting a FREE Mayoral Candidate Forum for all declared individuals running in the 2017 Pittsburgh mayoral election.  This event is a unique opportunity for young people living in Pittsburgh to explore the vision\, policies\, and positions of each candidate.  The format\, content\, and civic engagement fair participants will focus on the issues and policies most important to young people in Pittsburgh.  Join us for this once in every four years event! \n  \nInterested in volunteering at the event? Please sign up at Pittsburgh Cares HERE.  All volunteers who commit four (4) hours of time will receive a voucher for two (2) tickets to a 2017 Pirates game. \n  \nProgram Agenda: \n\n6:30 PM – Doors open\n7:00 – 8:30 PM – Mayoral Candidate Forum\n8:30 – 10:00 PM – Reception and Civic Engagement Fair (refreshments served)\n\nLocation:\n\nRodef Shalom Congregation (4905 Fifth Ave\, Pittsburgh\, PA 15213) Entrance is in the rear of the building\, just off of the parking lot. \n\nConfirmed Candidate Attendees: \n\nMayor Bill Peduto\, incumbent Mayor of Pittsburgh\nRev. Dr. John C. Welch\, VP for Student Services and Community Engagement and Dean of Students\, Pittsburgh Theological Seminary\n\nCivic Engagement Fair Partners:\n\nPUMP\nUrban League Young Professionals\nUniversity of Pittsburgh Graduate School of Public and International Affairs\nWESA/WYEP Generation Listen\n    \nJohn C. Welch Mayoral Candidate\nPeduto Democrat for Mayor\nA+ Schools/Vote School Board First\nCarlow University’s College for Leadership and Social Change\n    \nCoro Pittsburgh\nFair Districts PA\nLeadership Pittsburgh Inc \nLeague of Women Voters of Greater Pittsburgh\nMarch on Harrisburg\nPennsylvania Center for Women and Politics at Chatham University\nPittsburgh Cares\nPublic Allies Pittsburgh\nPULSE\nRepair the World\nUnited Way of Southwestern Pennsylvania\nYoung Democrats of Allegheny County\nYoung Republicans of Allegheny County\n\nand more to come \n  \nAdditional Info:\n  \nEvent organizers expect this will be a well attended event\, so register early to reserve your seat.  Registrants will have the opportunity to suggest a question during the registration process.  Childcare will be provided for those who need it\, but must be reserved by Wednesday through registration. ASL interpretation will be provided. Please note your preference for a reserved front row seat if desired. \n  \nBe prepared to live tweet your question ideas to @PghForum2017. \n  \nCheck back for more details/updates as the forum format and civic engagement partners are finalized.  \n  \n  \n\n 
URL:https://www.pump.org/event/pittsburgh-mayoral-candidate-forum/
LOCATION:Rodef Shalom\, 4905 Fifth Avenue\, Pittsburgh\, Pennsylvania\, 15213\, United States
ORGANIZER;CN="Brian%20Magee":MAILTO:brian@pump.org
GEO:40.4479845;-79.9434692
X-APPLE-STRUCTURED-LOCATION;VALUE=URI;X-ADDRESS=Rodef Shalom 4905 Fifth Avenue Pittsburgh Pennsylvania 15213 United States;X-APPLE-RADIUS=500;X-TITLE=4905 Fifth Avenue:geo:-79.9434692,40.4479845
END:VEVENT
BEGIN:VEVENT
DTSTART;TZID=America/New_York:20160930T190000
DTEND;TZID=America/New_York:20160930T220000
DTSTAMP:20260421T111402
CREATED:20171020T195051Z
LAST-MODIFIED:20221028T205804Z
UID:10017029-1475262000-1475272800@www.pump.org
SUMMARY:PUMP 20th Anniversary Celebration
DESCRIPTION:We’re celebrating 20 Years of PUMP!\nThanks to you we’re PUMP’d to celebrate 20 years of making a difference in the community!  To commemorate the occasion\, we’re throwing a big party on September 30th at one of Pittsburgh’s most dynamic locations that bridges Pittsburgh’s past\, present\, and future – the Energy Innovation Center. Ticket sales are now closed!  All tickets include: \n\nAdmission to the Energy Innovation Center with spectacular night time views of Pittsburgh\nPittsburgh artist Baron Batch will live paint a signature one-of-kind piece to commemorate the anniversary.  Painting will be raffled off at the event.\nEntertainment with global vibes by DJ Soysos\nWorld class food with a global theme provided by Sausalido\nOpen bar including beer\, wine\, signature cocktails\, and non-alcoholic beverages\nA trip down memory lane with PUMP and an eye into the future\n\nAll tickets are $100 and go to support PUMP’s mission.** \n\nMany thanks to our presenting sponsor and long-time supporter:\n\n\n \n\n  \nPUMP 20th Anniversary Host Committee\nBibhuti Aryal\nErin & Tom Baker\nHelen Cestra\nMichael Grande\nDeb Gross & Stan Caldwell\nLeigh Halverson & Nate Hanson\nKathryn Heidemann\nMichael J. Herald\nSam Hornak\nDominic Alan Janidas\nLauren Kelly\nSuzie Lachut\nChristian Manders\nDr. Gloria Minella\nNeil D. Parham\nKathy Risko & Michael Horvath\nSabrina Saunders\nKelly Spiers\nMarisa C. Williams\nBelinda Yeager Carter \n\n\n**PUMP is a 501(c)(3) nonprofit organization. Contributions are tax deductible to the extent allowed by law.  Attendees will receive goods and services valued at $40 for each $100 ticket purchased. \n 
URL:https://www.pump.org/event/pump-20th-anniversary-celebration/
LOCATION:Energy Innovation Center\, 1435 Bedford Ave\, Pittsburgh\, Pennsylvania\, 15219\, United States
ORGANIZER;CN="Brian%20Magee":MAILTO:brian@pump.org
GEO:40.4445367;-79.9889412
X-APPLE-STRUCTURED-LOCATION;VALUE=URI;X-ADDRESS=Energy Innovation Center 1435 Bedford Ave Pittsburgh Pennsylvania 15219 United States;X-APPLE-RADIUS=500;X-TITLE=1435 Bedford Ave:geo:-79.9889412,40.4445367
END:VEVENT
BEGIN:VEVENT
DTSTART;TZID=America/New_York:20151119T181500
DTEND;TZID=America/New_York:20151119T201500
DTSTAMP:20260421T111402
CREATED:20171020T195135Z
LAST-MODIFIED:20221028T222904Z
UID:10017170-1447956900-1447964100@www.pump.org
SUMMARY:PUMP Board Meeting
DESCRIPTION:
URL:https://www.pump.org/event/pump-board-meeting/
ORGANIZER;CN="Brian%20Magee":MAILTO:brian@pump.org
END:VEVENT
BEGIN:VEVENT
DTSTART;TZID=America/New_York:20150917T181500
DTEND;TZID=America/New_York:20150917T201500
DTSTAMP:20260421T111402
CREATED:20171020T195138Z
LAST-MODIFIED:20221028T222906Z
UID:10017181-1442513700-1442520900@www.pump.org
SUMMARY:PUMP Board Meeting
DESCRIPTION:
URL:https://www.pump.org/event/pump-board-meeting-4/
ORGANIZER;CN="Brian%20Magee":MAILTO:brian@pump.org
END:VEVENT
BEGIN:VEVENT
DTSTART;TZID=America/New_York:20150716T181500
DTEND;TZID=America/New_York:20150716T201500
DTSTAMP:20260421T111402
CREATED:20171020T195138Z
LAST-MODIFIED:20221030T162316Z
UID:10017180-1437070500-1437077700@www.pump.org
SUMMARY:PUMP Board Meeting
DESCRIPTION:
URL:https://www.pump.org/event/pump-board-meeting-3/
LOCATION:Northway Christian\, Pittsburgh\, Pennsylvania\, United States
ORGANIZER;CN="Brian%20Magee":MAILTO:brian@pump.org
END:VEVENT
BEGIN:VEVENT
DTSTART;TZID=America/New_York:20150521T181500
DTEND;TZID=America/New_York:20150521T201500
DTSTAMP:20260421T111402
CREATED:20171020T195137Z
LAST-MODIFIED:20221030T162427Z
UID:10017179-1432232100-1432239300@www.pump.org
SUMMARY:PUMP Board Meeting
DESCRIPTION:
URL:https://www.pump.org/event/pump-board-meeting-2/
LOCATION:Petersen Events Center\, 3719 Terrace St.\, Pittsburgh\, Pennsylvania\, 15261\, United States
ORGANIZER;CN="Brian%20Magee":MAILTO:brian@pump.org
GEO:40.4436543;-79.9622606
X-APPLE-STRUCTURED-LOCATION;VALUE=URI;X-ADDRESS=Petersen Events Center 3719 Terrace St. Pittsburgh Pennsylvania 15261 United States;X-APPLE-RADIUS=500;X-TITLE=3719 Terrace St.:geo:-79.9622606,40.4436543
END:VEVENT
BEGIN:VEVENT
DTSTART;TZID=America/New_York:20150226T173000
DTEND;TZID=America/New_York:20150226T210000
DTSTAMP:20260421T111402
CREATED:20171020T195019Z
LAST-MODIFIED:20221030T164757Z
UID:10016939-1424971800-1424984400@www.pump.org
SUMMARY:PUMP Board Alumni Celebration
DESCRIPTION:
URL:https://www.pump.org/event/pump-board-alumni-celebration/
LOCATION:Engine House 25 / Clemente Museum\, 3339 Penn Avenue\, Pittsburgh\, Pennsylvania\, 15201\, United States
ORGANIZER;CN="Brian%20Magee":MAILTO:brian@pump.org
GEO:40.4625073;-79.9678922
X-APPLE-STRUCTURED-LOCATION;VALUE=URI;X-ADDRESS=Engine House 25 / Clemente Museum 3339 Penn Avenue Pittsburgh Pennsylvania 15201 United States;X-APPLE-RADIUS=500;X-TITLE=3339 Penn Avenue:geo:-79.9678922,40.4625073
END:VEVENT
END:VCALENDAR