BEGIN:VCALENDAR
VERSION:2.0
PRODID:-//PUMP - ECPv6.0.0//NONSGML v1.0//EN
CALSCALE:GREGORIAN
METHOD:PUBLISH
X-ORIGINAL-URL:https://www.pump.org
X-WR-CALDESC:Events for PUMP
REFRESH-INTERVAL;VALUE=DURATION:PT1H
X-Robots-Tag:noindex
X-PUBLISHED-TTL:PT1H
BEGIN:VTIMEZONE
TZID:America/New_York
BEGIN:DAYLIGHT
TZOFFSETFROM:-0500
TZOFFSETTO:-0400
TZNAME:EDT
DTSTART:20210314T070000
END:DAYLIGHT
BEGIN:STANDARD
TZOFFSETFROM:-0400
TZOFFSETTO:-0500
TZNAME:EST
DTSTART:20211107T060000
END:STANDARD
END:VTIMEZONE
BEGIN:VEVENT
DTSTART;TZID=America/New_York:20210728T180000
DTEND;TZID=America/New_York:20210728T210000
DTSTAMP:20260420T194741
CREATED:20210722T153754Z
LAST-MODIFIED:20210722T153806Z
UID:10017946-1627495200-1627506000@www.pump.org
SUMMARY:Drop the Rock Nature Hike
DESCRIPTION:Drop the Rock Nature Hike\nAre you in the middle of a transition period?\nAre you lacking clarity or feeling stuck around an important topic to you?\nIs there a road block that keeps holding you back from accomplishing your goals for 2021?\nDo you wish there was a personal reset button for 2021?\nDo you enjoy being outdoors?\nAre you craving to reconnect with yourself in a natural environment?\nReady to meet\, connect\, and network with fellow Yinzers? \nIf you resonate with any of the questions above\, join Certified Life Coach\, Liz Lischick\, as she teams up with Steel City Outdoor Adventures LLC for their first ever Drop the Rock Nature Hike on July 28th @ 6pm! \nWe will be taking a 3.0 mile hike through Boyce Mayview Park. Hikers will kick off the event by setting an intention for the hike. During the first leg of the trail\, hikers will be sharing their road blocks\, obstacles\, or any negative energy with fellow group members. Once the halfway point is reached\, there will be a quick break to pause and pick up an object that best represents that negative energy or feeling. Then\, hikers will be asked to throw that object over the mountain. As we descend\, hikers are encouraged to self reflect on how they feel\, what action steps they are committing to\, or what is still missing. Finally\, upon return\, we will celebrate new beginnings with pizza from Ardolino’s and 1 hour of group coaching! Liz will guide the conversation by coaching those who feel called to share their breakthroughs during the nature hike! \nHikers are encouraged to BYOB and BYOC (bring your own chair) for post hike.
URL:https://www.pump.org/event/drop-the-rock-nature-hike/
LOCATION:1141 Boyce Road\, Pittsburgh\, PA\, 1141 Boyce Road\, Pittsburgh\, PA\, 15241\, United States
CATEGORIES:Recreation,Social
ATTACH;FMTTYPE=image/jpeg:https://www.pump.org/wp-content/uploads/2021/07/droptherock-scaled.jpg
ORGANIZER;CN="Liz%20Lischick":MAILTO:coach@threeriversofhope.com
GEO:40.3178853;-80.1097278
X-APPLE-STRUCTURED-LOCATION;VALUE=URI;X-ADDRESS=1141 Boyce Road Pittsburgh PA 1141 Boyce Road Pittsburgh PA 15241 United States;X-APPLE-RADIUS=500;X-TITLE=1141 Boyce Road:geo:-80.1097278,40.3178853
END:VEVENT
END:VCALENDAR