BEGIN:VCALENDAR
VERSION:2.0
PRODID:-//PUMP - ECPv6.0.0//NONSGML v1.0//EN
CALSCALE:GREGORIAN
METHOD:PUBLISH
X-ORIGINAL-URL:https://www.pump.org
X-WR-CALDESC:Events for PUMP
REFRESH-INTERVAL;VALUE=DURATION:PT1H
X-Robots-Tag:noindex
X-PUBLISHED-TTL:PT1H
BEGIN:VTIMEZONE
TZID:America/New_York
BEGIN:DAYLIGHT
TZOFFSETFROM:-0500
TZOFFSETTO:-0400
TZNAME:EDT
DTSTART:20210314T070000
END:DAYLIGHT
BEGIN:STANDARD
TZOFFSETFROM:-0400
TZOFFSETTO:-0500
TZNAME:EST
DTSTART:20211107T060000
END:STANDARD
END:VTIMEZONE
BEGIN:VEVENT
DTSTART;TZID=America/New_York:20210810T093000
DTEND;TZID=America/New_York:20210810T120000
DTSTAMP:20260425T074757
CREATED:20210803T202945Z
LAST-MODIFIED:20221028T183300Z
UID:10017956-1628587800-1628596800@www.pump.org
SUMMARY:New Choices Class
DESCRIPTION:Pennsylvania Women Work has helped over 65\,000 Pennsylvanians find lasting employment. Our free programs offer job-seekers the opportunity to transform their lives through empowerment\, employment\, and economic independence. \nVirtual New Choices Classes \nClasses will run on a biweekly schedule from now through the end of spring 2021. Check back for updates and additional information. \nMORE INFO\nIn response to the pandemic caused by COVID-19\, we have launched our traditional New Choices class using a new\, safe-from-your-home\, virtual model. \nDuring the class\, participants will gain access to current lists of job opportunities\, practice interviewing and applying for jobs online\, revise their resumes\, and learn how to manage stress through this uncertain time. \nBeing that this class will be completely conducted online\, there are a few prerequisites for participants: \n\nReliable online technology to access online class platform\nComputer/hand-held device (such as a laptop\, tablet or smart phone) for class participation purposes\nCell phone or telephone\nCurrent/active email and ability to open attachments\, complete documents and return\n\nTo register for an upcoming class\, please click here. 
URL:https://www.pump.org/event/new-choices-class/
CATEGORIES:Signature Event
ATTACH;FMTTYPE=image/png:https://www.pump.org/wp-content/uploads/2021/08/35a67ffc-5dc4-9c38-a2f9-8f2b031e7c55.png
ORGANIZER;CN="PA%20Women%20Work":MAILTO:info@pawomenwork.org
END:VEVENT
END:VCALENDAR