BEGIN:VCALENDAR
VERSION:2.0
PRODID:-//PUMP - ECPv6.0.0//NONSGML v1.0//EN
CALSCALE:GREGORIAN
METHOD:PUBLISH
X-ORIGINAL-URL:https://www.pump.org
X-WR-CALDESC:Events for PUMP
REFRESH-INTERVAL;VALUE=DURATION:PT1H
X-Robots-Tag:noindex
X-PUBLISHED-TTL:PT1H
BEGIN:VTIMEZONE
TZID:America/New_York
BEGIN:DAYLIGHT
TZOFFSETFROM:-0500
TZOFFSETTO:-0400
TZNAME:EDT
DTSTART:20220313T070000
END:DAYLIGHT
BEGIN:STANDARD
TZOFFSETFROM:-0400
TZOFFSETTO:-0500
TZNAME:EST
DTSTART:20221106T060000
END:STANDARD
END:VTIMEZONE
BEGIN:VEVENT
DTSTART;TZID=America/New_York:20220909T110000
DTEND;TZID=America/New_York:20220909T133000
DTSTAMP:20260421T063103
CREATED:20220802T192920Z
LAST-MODIFIED:20220802T192920Z
UID:10018141-1662721200-1662730200@www.pump.org
SUMMARY:2022 Athena Awards Program of Greater Pittsburgh
DESCRIPTION:The Greater Pittsburgh ATHENA Award and ATHENA Young Professional Award recognizes exceptional women who demonstrate excellence in their profession\, contribute to their community\, and help other women and girls to succeed through mentorship. \n2022 ATHENA Award Finalists\n– Luz Blandon\, Executive Vice President for Immigrant Children Services\, Holy Family Institute\n– Dr. Trisha Gadson\, Chief Executive Officer\, Macedonia Family & Community Enrichment Center\n– Hollie Geitner\, Director\, Communications\, Duquesne Light Company\n– Stacy Juchno\, Executive Vice President and General Auditor\, The PNC Financial Services Group\n– Cynthia Oliver\, Executive Director\, Three Rivers Business Alliance \n2022 ATHENA Young Professional Award Finalists\n– Aleta Heard\, VP\, Senior Specialist\, Product Owner\, BNY Mellon\n– Shireen Thomas\, Director\, IT Operations – Office of the CIO\, UPMC\n– Sam Utley Schmitt\, Coordinator of Equity\, Inclusion and Justice\, Fanny Edel Falk Laboratory School \nThe ATHENA Awards event in Pittsburgh is one of the largest annual gatherings among the hundreds of ATHENA International events presented around the world. \nRegistration & Payment Policy:\nOnline Registration will close 1-2 days prior to event. Pre-Registration is always requested\, when possible\, so that we may best plan for your arrival. Walk-in registrants\, when accepted\, must pay onsite (additional fee required) with a credit card or check to obtain entry to the event\, no exceptions. Refunds requested less than 2 business days prior to the event will not be granted. Substitutions are welcome. \nContact Ashley Steckel at asteckel@pghtech.org to learn more about sponsorship opportunities. \nFor more information\, contact Allison Kaharick\, Sr. Director\, Major Programs at akaharick@pghtech.org.
URL:https://www.pump.org/event/2022-athena-awards-program-of-greater-pittsburgh/
LOCATION:Westin Convention Center Hotel\, 1000 Penn Ave\, Pittsburgh\, PA\, 15222\, United States
ATTACH;FMTTYPE=image/png:https://www.pump.org/wp-content/uploads/2022/08/Athena-color-option2.png
GEO:40.4443579;-79.9945772
X-APPLE-STRUCTURED-LOCATION;VALUE=URI;X-ADDRESS=Westin Convention Center Hotel 1000 Penn Ave Pittsburgh PA 15222 United States;X-APPLE-RADIUS=500;X-TITLE=1000 Penn Ave:geo:-79.9945772,40.4443579
END:VEVENT
END:VCALENDAR