BEGIN:VCALENDAR
VERSION:2.0
PRODID:-//PUMP - ECPv6.0.0//NONSGML v1.0//EN
CALSCALE:GREGORIAN
METHOD:PUBLISH
X-WR-CALNAME:PUMP
X-ORIGINAL-URL:https://www.pump.org
X-WR-CALDESC:Events for PUMP
REFRESH-INTERVAL;VALUE=DURATION:PT1H
X-Robots-Tag:noindex
X-PUBLISHED-TTL:PT1H
BEGIN:VTIMEZONE
TZID:America/New_York
BEGIN:DAYLIGHT
TZOFFSETFROM:-0500
TZOFFSETTO:-0400
TZNAME:EDT
DTSTART:20190310T070000
END:DAYLIGHT
BEGIN:STANDARD
TZOFFSETFROM:-0400
TZOFFSETTO:-0500
TZNAME:EST
DTSTART:20191103T060000
END:STANDARD
END:VTIMEZONE
BEGIN:VEVENT
DTSTART;TZID=America/New_York:20190228T180000
DTEND;TZID=America/New_York:20190228T193000
DTSTAMP:20260421T202129
CREATED:20190214T174208Z
LAST-MODIFIED:20190214T174208Z
UID:10017558-1551376800-1551382200@www.pump.org
SUMMARY:South Side - URA Housing Opportunity Fund Community Feedback Meeting
DESCRIPTION:South Side – Housing Opportunity Fund Community Feedback Meeting\nThe URA – Housing Opportunity Fund Department will be hosting a series of community meetings throughout the City of Pittsburgh regarding the Housing Opportunity Funds’ first year of operation. \nIn 2015-2016\, the City of Pittsburgh assembled an Affordable Housing Task Force to better understand the affordable housing needs across the City. The Task Force recommended the City establish a Housing Trust Fund which led to the creation of the Pittsburgh Housing Opportunity Fund. The City of Pittsburgh will receive $10 million per year for the next 12 years to address the affordable housing crisis. \nBecause of community feedback provided during the 2018 Allocation year\, the HOF Advisory Board was able to approve the following five programmatic areas: \n\nRental Gap Program\nHomeowner Assistance Program\nDown Payment and Closing Cost Assistance Program\nHousing Stabilization Program\nFor-Sale Development Program\n\nShare your voice with the Housing Opportunity Fund at one of the upcoming meetings: \n\nRegister for the February 28 South Side community meeting here.\nFind upcoming community meetings here.
URL:https://www.pump.org/event/south-side-ura-housing-opportunity-fund-community-feedback-meeting/
LOCATION:Beechview Healthy Active Living Community Center – Senior Center\, 1555 Broadway Ave\, Pittsburgh\, PA\, 15216\, United States
CATEGORIES:Advocacy
ATTACH;FMTTYPE=image/jpeg:https://www.pump.org/wp-content/uploads/2019/02/ura-hof-community-meetings.jpg
GEO:40.4107465;-80.0244192
X-APPLE-STRUCTURED-LOCATION;VALUE=URI;X-ADDRESS=Beechview Healthy Active Living Community Center – Senior Center 1555 Broadway Ave Pittsburgh PA 15216 United States;X-APPLE-RADIUS=500;X-TITLE=1555 Broadway Ave:geo:-80.0244192,40.4107465
END:VEVENT
END:VCALENDAR