BEGIN:VCALENDAR
VERSION:2.0
PRODID:-//PUMP - ECPv6.0.0//NONSGML v1.0//EN
CALSCALE:GREGORIAN
METHOD:PUBLISH
X-WR-CALNAME:PUMP
X-ORIGINAL-URL:https://www.pump.org
X-WR-CALDESC:Events for PUMP
REFRESH-INTERVAL;VALUE=DURATION:PT1H
X-Robots-Tag:noindex
X-PUBLISHED-TTL:PT1H
BEGIN:VTIMEZONE
TZID:America/New_York
BEGIN:DAYLIGHT
TZOFFSETFROM:-0500
TZOFFSETTO:-0400
TZNAME:EDT
DTSTART:20160313T070000
END:DAYLIGHT
BEGIN:STANDARD
TZOFFSETFROM:-0400
TZOFFSETTO:-0500
TZNAME:EST
DTSTART:20161106T060000
END:STANDARD
BEGIN:DAYLIGHT
TZOFFSETFROM:-0500
TZOFFSETTO:-0400
TZNAME:EDT
DTSTART:20170312T070000
END:DAYLIGHT
BEGIN:STANDARD
TZOFFSETFROM:-0400
TZOFFSETTO:-0500
TZNAME:EST
DTSTART:20171105T060000
END:STANDARD
BEGIN:DAYLIGHT
TZOFFSETFROM:-0500
TZOFFSETTO:-0400
TZNAME:EDT
DTSTART:20180311T070000
END:DAYLIGHT
BEGIN:STANDARD
TZOFFSETFROM:-0400
TZOFFSETTO:-0500
TZNAME:EST
DTSTART:20181104T060000
END:STANDARD
BEGIN:DAYLIGHT
TZOFFSETFROM:-0500
TZOFFSETTO:-0400
TZNAME:EDT
DTSTART:20190310T070000
END:DAYLIGHT
BEGIN:STANDARD
TZOFFSETFROM:-0400
TZOFFSETTO:-0500
TZNAME:EST
DTSTART:20191103T060000
END:STANDARD
BEGIN:DAYLIGHT
TZOFFSETFROM:-0500
TZOFFSETTO:-0400
TZNAME:EDT
DTSTART:20200308T070000
END:DAYLIGHT
BEGIN:STANDARD
TZOFFSETFROM:-0400
TZOFFSETTO:-0500
TZNAME:EST
DTSTART:20201101T060000
END:STANDARD
BEGIN:DAYLIGHT
TZOFFSETFROM:-0500
TZOFFSETTO:-0400
TZNAME:EDT
DTSTART:20210314T070000
END:DAYLIGHT
BEGIN:STANDARD
TZOFFSETFROM:-0400
TZOFFSETTO:-0500
TZNAME:EST
DTSTART:20211107T060000
END:STANDARD
END:VTIMEZONE
BEGIN:VEVENT
DTSTART;TZID=America/New_York:20160617T110000
DTEND;TZID=America/New_York:20160617T140000
DTSTAMP:20260421T110658
CREATED:20171020T195058Z
LAST-MODIFIED:20221028T211409Z
UID:10017054-1466161200-1466172000@www.pump.org
SUMMARY:World Refugee Day
DESCRIPTION:The family-friendly event is free and open to the public. World Refugee Day will feature local refugee groups performing traditional musical and dance numbers\, cultural crafts\, and activities for kids. Traditional cuisine representing countries around the world\, including Nepal\, Syria\, Mexico and several other ethnicities will be available for purchase from local restaurants and vendors. There will also be a naturalization ceremony at noon celebrating the new citizenships of former refugees now living in the region. Aerion Abney of the POISE Foundation will emcee and Allegheny County Executive Rich Fitzgerald will give brief remarks. \nTo learn more about Pittsburgh’s World Refugee Day celebration or to be connected with any of the refugee resettlement organizations\, including NAMSC\, JF&CS\, Catholic Charities or AJAPO\, or refugees living in Pittsburgh\, please contact John Dickey at jdicke@ccpgh.org or by calling 412-456-6917.
URL:https://www.pump.org/event/world-refugee-day/
LOCATION:Market Square\, Downtown\, Pittsburgh\, Pennsylvania\, United States
ORGANIZER;CN="John%20Dickey":MAILTO:jdicke@ccpgh.org
END:VEVENT
BEGIN:VEVENT
DTSTART;VALUE=DATE:20180518
DTEND;VALUE=DATE:20180519
DTSTAMP:20260421T110658
CREATED:20180507T161434Z
LAST-MODIFIED:20180507T161434Z
UID:10017310-1526601600-1526687999@www.pump.org
SUMMARY:Bike to Work Day - May 18\, 2018
DESCRIPTION:Bike to Work Day is a day to celebrate being one of thousands of people in Pittsburgh who rides to work! It’s also a day to give bicycle commuting a try\, so join in the fun and bike to work on Friday\, May 18\, 2018. \nVisit a BikePGH Commuter Cafe: BikePGH will be providing breakfast snacks\, coffee\, and friendly faces to get your day moving. Join BikePGH\, Healthy Ride PGH\, and other community partners. \nWhere: Market Square\, Downtown \nWhen: 7:30 AM – 10 AM \nBikePGH members will receive a special gift when they show up at a Commuter Cafe on Bike to Work Day. \nSee the Facebook event for more details.
URL:https://www.pump.org/event/bike-to-work-day-may-18-2018/
LOCATION:Market Square\, Downtown\, Pittsburgh\, Pennsylvania\, United States
CATEGORIES:Advocacy,Recreation
ATTACH;FMTTYPE=image/jpeg:https://www.pump.org/wp-content/uploads/2018/05/bike-to-work-day-e1525709602475.jpg
END:VEVENT
BEGIN:VEVENT
DTSTART;TZID=America/New_York:20190621T110000
DTEND;TZID=America/New_York:20190621T140000
DTSTAMP:20260421T110658
CREATED:20190529T170914Z
LAST-MODIFIED:20190529T170914Z
UID:10017638-1561114800-1561125600@www.pump.org
SUMMARY:World Refugee Day Pittsburgh 2019
DESCRIPTION:World Refugee Day – Pittsburgh\nPittsburgh will hold its 8th annual celebration of World Refugee Day on June 21\, 2019 from 11 AM-2 PM in Market Square. \nThe event is open to the public and admission is free. There will be food and craft vendors\, music\, dance\, speakers\, and kid’s activities\, all representing diverse cultural backgrounds. \nWorld Refugee Day is held on June 20th every year to commemorate the strength\, courage\, and perseverance of millions of refugees and is a chance for the public to show support to the families and individuals that have been forced to flee their homes. World Refugee Day – Pittsburgh is also a time to recognize gifts that refugees and immigrants bring to our community and to celebrate their hopes and dreams as they resettle in the United States. \nThe event also coincides with Immigrant Heritage Month\, which is recognized in June. \nLearn more about the event and stay up to date here. \nWorld Refugee Day – Pittsburgh is hosted by: \n\nAJAPO (Acculturation for Justice\, Access and Peace Outreach)\nJFCS Refugee & Immigrant Services\nAll for All\nARYSE\nAmerican Red Cross of Southwestern PA\nGlobal Wordsmiths\nLiteracy Pittsburgh\nSouth Hills Interfaith Movement (SHIM)
URL:https://www.pump.org/event/world-refugee-day-pittsburgh-2019/
LOCATION:Market Square\, Downtown\, Pittsburgh\, Pennsylvania\, United States
CATEGORIES:Advocacy,Recreation,Social
ATTACH;FMTTYPE=image/jpeg:https://www.pump.org/wp-content/uploads/2019/05/world-refugee-day-2019.jpg
END:VEVENT
BEGIN:VEVENT
DTSTART;TZID=America/New_York:20210611T170000
DTEND;TZID=America/New_York:20210613T180000
DTSTAMP:20260421T110658
CREATED:20210528T172638Z
LAST-MODIFIED:20210528T172736Z
UID:10017919-1623430800-1623607200@www.pump.org
SUMMARY:World Square: Welcoming All of Pittsburgh's Neighborhoods
DESCRIPTION:Welcoming Pittsburgh and the Pittsburgh Downtown Partnership are teaming up to host World Square\, a platform to celebrate\, promote\, and welcome our local international communities. \nAcross three days in June during the Dollar Bank Three Rivers Arts Festival\, Market Square will become a showcase for businesses\, artists\, makers\, performers\, food purveyors\, and more from across the various international and newcomer communities. \nGet the entertainment schedule\, vendor listings\, and more at WorldSquarePGH.com. \nWorld Square is presented by Welcoming Pittsburgh and the Pittsburgh Downtown Partnership\, along with support from our partners: The Global Switchboard\, Pittsburgh Hispanic Development Corporation\, Pittsburgh Metropolitan Area Hispanic Chamber of Commerce\, PittGlobal and Program for Immigrant/International Entrepreneurs (PIE)\, University of Pittsburgh\, All for All\, Bhutanese Community Association of Pittsburgh\, and Hello Neighbor. \nFunding for World Square is generously provided by the Benedum Foundation. \n 
URL:https://www.pump.org/event/world-square-welcoming-all-of-pittsburghs-neighborhoods/
LOCATION:Market Square\, Downtown\, Pittsburgh\, Pennsylvania\, United States
CATEGORIES:Advocacy,Social
ATTACH;FMTTYPE=image/jpeg:https://www.pump.org/wp-content/uploads/2021/05/world-square.jpg
END:VEVENT
END:VCALENDAR