BEGIN:VCALENDAR
VERSION:2.0
PRODID:-//PUMP - ECPv6.0.0//NONSGML v1.0//EN
CALSCALE:GREGORIAN
METHOD:PUBLISH
X-ORIGINAL-URL:https://www.pump.org
X-WR-CALDESC:Events for PUMP
REFRESH-INTERVAL;VALUE=DURATION:PT1H
X-Robots-Tag:noindex
X-PUBLISHED-TTL:PT1H
BEGIN:VTIMEZONE
TZID:America/New_York
BEGIN:DAYLIGHT
TZOFFSETFROM:-0500
TZOFFSETTO:-0400
TZNAME:EDT
DTSTART:20190310T070000
END:DAYLIGHT
BEGIN:STANDARD
TZOFFSETFROM:-0400
TZOFFSETTO:-0500
TZNAME:EST
DTSTART:20191103T060000
END:STANDARD
END:VTIMEZONE
BEGIN:VEVENT
DTSTART;TZID=America/New_York:20190117T190000
DTEND;TZID=America/New_York:20190117T200000
DTSTAMP:20260421T194525
CREATED:20190107T155357Z
LAST-MODIFIED:20190107T155357Z
UID:10017484-1547751600-1547755200@www.pump.org
SUMMARY:Parks Listening Tour - Highland Park Community Council
DESCRIPTION:Parks Listening Tour – Highland Park Community Council\nWherever you live in the city of Pittsburgh\, the City of Pittsburgh and the Pittsburgh Parks Conservancy want to hear your thoughts about your parks! \nFrom late 2018 through early 2019\, the City of Pittsburgh and the Pittsburgh Parks Conservancy are embarking on the Parks Listening Tour. At community meetings and events throughout the city\, they will be gathering feedback on what our neighbors like you love about their parks\, and what they would love to improve. \nThis event is one of many happening throughout Pittsburgh. Check out the full list of events here. \nIf you can’t make one of the events\, you can still review the Parks Listening Tour presentation and submit your feedback via the online survey. Full details here.
URL:https://www.pump.org/event/parks-listening-tour-highland-park-community-council/
LOCATION:St. Andrews\, 5801 Hampton st
CATEGORIES:Advocacy
ATTACH;FMTTYPE=image/jpeg:https://www.pump.org/wp-content/uploads/2019/01/pittsburgh-parks-conservancy-logo-e1546547211415.jpg
ORGANIZER;CN="Pittsburgh%20Parks%20Conservancy":MAILTO:etobin@pittsburghparks.org
GEO:40.4747136;-79.9209755
X-APPLE-STRUCTURED-LOCATION;VALUE=URI;X-ADDRESS=St. Andrews 5801 Hampton st;X-APPLE-RADIUS=500;X-TITLE=5801 Hampton st:geo:-79.9209755,40.4747136
END:VEVENT
END:VCALENDAR