BEGIN:VCALENDAR
VERSION:2.0
PRODID:-//PUMP - ECPv6.0.0//NONSGML v1.0//EN
CALSCALE:GREGORIAN
METHOD:PUBLISH
X-ORIGINAL-URL:https://www.pump.org
X-WR-CALDESC:Events for PUMP
REFRESH-INTERVAL;VALUE=DURATION:PT1H
X-Robots-Tag:noindex
X-PUBLISHED-TTL:PT1H
BEGIN:VTIMEZONE
TZID:America/New_York
BEGIN:DAYLIGHT
TZOFFSETFROM:-0500
TZOFFSETTO:-0400
TZNAME:EDT
DTSTART:20180311T070000
END:DAYLIGHT
BEGIN:STANDARD
TZOFFSETFROM:-0400
TZOFFSETTO:-0500
TZNAME:EST
DTSTART:20181104T060000
END:STANDARD
END:VTIMEZONE
BEGIN:VEVENT
DTSTART;TZID=America/New_York:20180922T093000
DTEND;TZID=America/New_York:20180922T130000
DTSTAMP:20260425T062246
CREATED:20180920T135543Z
LAST-MODIFIED:20180920T135817Z
UID:10017402-1537608600-1537621200@www.pump.org
SUMMARY:14th Ward: Point Breeze\, Squirrel Hill\, Frick Park - Our kids. Our commitment. Canvassing
DESCRIPTION:Volunteer with us in the 14th Ward (Point Breeze\, Squirrel Hill\, Frick Park) on 9/22 to increase the number of people in Allegheny County who vote YES on November 6 to establish the Allegheny County Children’s Fund!\nPUMP is a steering committee member of Our kids. Our commitment. Along with the other steering committee members and lots of community partners and volunteers\, we are working to get voters the information they need to be prepared to vote yes to support early learning\, after school\, and nutritious meals for kids throughout Allegheny County. \nThe most effective way to get out the vote is door-to-door canvassing. Knock on doors with us and spread the word. We’ll meet at 9:30 AM to pass out materials and head out to knock on doors from 10 AM-1 PM at each event. \nSee the full list of events and sign up to volunteer here.
URL:https://www.pump.org/event/14th-ward-point-breeze-squirrel-hill-frick-park-our-kids-our-commitment-canvassing/
LOCATION:Trying Together\, Wightman School Building 5604 Solway St.\, Pittsburgh\, PA\, 15217\, United States
CATEGORIES:Advocacy
ATTACH;FMTTYPE=image/jpeg:https://www.pump.org/wp-content/uploads/2018/09/webelieve-time-to-work-1-e1537451464351.jpg
GEO:40.4426564;-79.9266905
X-APPLE-STRUCTURED-LOCATION;VALUE=URI;X-ADDRESS=Trying Together Wightman School Building 5604 Solway St. Pittsburgh PA 15217 United States;X-APPLE-RADIUS=500;X-TITLE=Wightman School Building 5604 Solway St.:geo:-79.9266905,40.4426564
END:VEVENT
END:VCALENDAR